BEGIN:VCALENDAR
VERSION:2.0
PRODID:-//Ordine degli Ingegneri di Verona e Provincia - ECPv6.15.20//NONSGML v1.0//EN
CALSCALE:GREGORIAN
METHOD:PUBLISH
X-ORIGINAL-URL:https://ingegneri.vr.it
X-WR-CALDESC:Eventi per Ordine degli Ingegneri di Verona e Provincia
REFRESH-INTERVAL;VALUE=DURATION:PT1H
X-Robots-Tag:noindex
X-PUBLISHED-TTL:PT1H
BEGIN:VTIMEZONE
TZID:Europe/Rome
BEGIN:DAYLIGHT
TZOFFSETFROM:+0100
TZOFFSETTO:+0200
TZNAME:CEST
DTSTART:20190331T010000
END:DAYLIGHT
BEGIN:STANDARD
TZOFFSETFROM:+0200
TZOFFSETTO:+0100
TZNAME:CET
DTSTART:20191027T010000
END:STANDARD
BEGIN:DAYLIGHT
TZOFFSETFROM:+0100
TZOFFSETTO:+0200
TZNAME:CEST
DTSTART:20200329T010000
END:DAYLIGHT
BEGIN:STANDARD
TZOFFSETFROM:+0200
TZOFFSETTO:+0100
TZNAME:CET
DTSTART:20201025T010000
END:STANDARD
BEGIN:DAYLIGHT
TZOFFSETFROM:+0100
TZOFFSETTO:+0200
TZNAME:CEST
DTSTART:20210328T010000
END:DAYLIGHT
BEGIN:STANDARD
TZOFFSETFROM:+0200
TZOFFSETTO:+0100
TZNAME:CET
DTSTART:20211031T010000
END:STANDARD
END:VTIMEZONE
BEGIN:VEVENT
DTSTART;TZID=Europe/Rome:20200720T080000
DTEND;TZID=Europe/Rome:20201105T120000
DTSTAMP:20260426T060823
CREATED:20200614T153316Z
LAST-MODIFIED:20200622T085206Z
UID:10744-1595232000-1604577600@ingegneri.vr.it
SUMMARY:Master in Building information modeling - BIM specialist\, coordinator\, manager"
DESCRIPTION:Sono in apertura le iscrizioni alla quinta edizione (2020-2021) del Master dell’Università di Pisa indicato nel titolo. \nIscrizioni dal 20/07/2020 al 05/11/2020.  \nInformazioni sui costi cliccando questo link \nIl costo di iscrizione è stato ridotto per la situazione contingente a € 1.700 per gli allievi ordinari e a € 850 per gli uditori. Si potrà seguire tutto il master via web\, e appena consentito\, anche in aula\, per chi desidera. \nIl programma\, i contenuti e gli standard qualitativi rimangono inalterati e implementati\, come\, sempre dall’evolversi delle necessità del settore.\nIl Master giunto alla quinta edizione ha un’ampia partecipazione da tutta Italia di professionisti del settore delle Costruzioni e collabora con più di 90 Partner per attività di tirocinio: Imprese\, Aziende\, Industrie\, Studi professionali\, Istituzioni\, Enti appaltanti e Amministrazioni Pubbliche. In questi anni ha permesso a tante realtà di imparare concretamente il metodo BIM e a decine di professionisti di trovare occupazioni a tempo determinato e indeterminato. Il Building Information Modeling non è un software o una norma\, è un metodo che ha necessità di tempi e modi congruenti. Il DM MIT n. 560/2017 richiede nuove competenze che aprono tante nuove opportunità ricercate oggi da tutto il settore. Il Master consente un apprendimento adeguato e contenuti a 360 gradi che permettono agli iscritti di orientarsi nell’attuale panorama italiano\, dove coesistono: necessità tecniche e commerciali\, procedure consolidate e iniziative spontanee\, prescrizioni di legge e normative volontarie\, competenze oggettive e corsi auto referenziati.\nIl BIM\, sistema di modellazione delle informazioni di un intervento basato su elementi tridimensionali object oriented\, coniuga modello e processo nel progetto\, costruzione e gestione di un intervento\, sia di nuova realizzazione che esistente. L’Università di Pisa\, prima in Italia a sviluppare più di venti anni fa un’attività di ricerca e formazione specifica sul BIM\, ricorda con affetto che ha avuto l’onore unico di ospitare al Master la lectio magistralis\, dell’ideatore e massimo esperto del BIM\, il Prof. Charles Eastman \nLezioni frontali sui procedimenti\, insegnamento operativo e individuale delle più diffuse risorse software (proprietarie o open source)\, criteri e metodi di redazione e partecipazione ai bandi BIM\, disposizioni di legge e normative\, esercitazioni pratiche personalizzate\, e attività di tirocinio si integrano per comporre le conoscenze proprie del BIM SPECIALIST CORDINATOR e MANAGER. Il Programma include una parte di lezioni sviluppate per moduli paralleli a scelta dell’utente\, per ambiti di specializzazione professionale\, compreso l’insegnamento di software BIM dedicati: Beni Monumentali\, Strutture\, Design generativo\, Infrastrutture\, Manutenzione e Gestione dell’esistente. \nPosti disponibili: 130. Disponibili ulteriori 30 posti come “uditori” (allievi privi di laurea di II livello). \nPeriodo di svolgimento: 12/11/2020 – 4/11/2021 (escluso il periodo di Natale ed il mese di Agosto). \nOrario: 8 ore a settimana il giovedì 9.00 – 13.00 e 14.00 – 18.00. \n60 CFU – 480 ore (360 aula + 120 tirocinio) – Costo 1.700€ per allievi orinari (850 per uditori) SONO PREVISTE 12 BORSE PER ESENZIONI ED AGEVOLAZIONI. \nPer eventuali informazioni\, si prega di contattare il Prof. Ing. Paolo Fiamma al seguente indirizzo mail: paolo.fiamma@ing.unipi.it
URL:https://ingegneri.vr.it/evento/master-in-building-information-modeling-bim-specialist-coordinator-manager/
CATEGORIES:INIZIATIVE ESTERNE,Master
ATTACH;FMTTYPE=image/png:https://ingegneri.vr.it/wp-content/uploads/2020/06/Logo-UNIBIM.png
END:VEVENT
BEGIN:VEVENT
DTSTART;VALUE=DATE:20200723
DTEND;VALUE=DATE:20200724
DTSTAMP:20260426T060823
CREATED:20200723T064509Z
LAST-MODIFIED:20200825T092708Z
UID:11476-1595462400-1595548799@ingegneri.vr.it
SUMMARY:Master universitari di II Livello:  Master  in Appalti e Contratti Pubblici  e Master in Data Protection Officer
DESCRIPTION:Il Consorzio Poliedra organizza i Master universitari di II livello in Appalti e Contratti pubblici (MAC) – XII edizione e in Data Protection Officer (DPO) – III edizione\, diretti dalla Prof.ssa Maria Agostina Cabiddu del Dipartimento di Architettura e Studi Urbani del Politecnico di Milano.\nIl Master MAC (www.masterappalticontratti.polimi.it) si rivolge a laureati interessati ad operare nel settore degli appalti di lavori pubblici\, della fornitura di beni e servizi e della gestione dei servizi pubblici locali. Il corso si propone di fornire un quadro della disciplina in tema di appalti e contratti pubblici e un aggiornamento completo in una materia complessa e in continua evoluzione\, riservando ampio spazio alla presentazione di casi pratici\, esaminati alla luce dei contributi giurisprudenziali.\nIl Master DPO (www.masterdpo.polimi.it) mira a formare un profilo specialistico di Responsabile della protezione dei dati\, il Data Protection Officer\, figura di riferimento in materia di protezione dei dati personali per tutti gli Enti Pubblici e le Pubbliche Amministrazioni (centrali e locali)\, e\, dove previsto\, nel settore privato. Il corso offre un quadro della disciplina in tema di protezione dei dati\, a seguito dell’entrata in vigore del nuovo Regolamento Europeo (679/2016) in luogo del Codice Privacy (D.lgs. 196/2003). \nEntrambi i Master\, di durata annuale\, avranno inizio nel mese di aprile 2021. \nLe scadenze per la domanda di ammissione sono il 15 febbraio 2021 per il Master MAC e il 1 marzo 2021 per il Master DPO. \nPer le modalità di iscrizione consultare il sito www.poliedra.polimi.it/formazione/ \nIn allegato le locandine informative dei master
URL:https://ingegneri.vr.it/evento/master-universitari-di-ii-livello-master-in-appalti-e-contratti-pubblici-e-master-in-data-protection-officer/
CATEGORIES:INIZIATIVE ESTERNE,Master
ATTACH;FMTTYPE=image/jpeg:https://ingegneri.vr.it/wp-content/uploads/2019/10/Master.jpg
END:VEVENT
END:VCALENDAR