BEGIN:VCALENDAR
VERSION:2.0
PRODID:-//Ordine degli Ingegneri di Verona e Provincia - ECPv6.15.20//NONSGML v1.0//EN
CALSCALE:GREGORIAN
METHOD:PUBLISH
X-WR-CALNAME:Ordine degli Ingegneri di Verona e Provincia
X-ORIGINAL-URL:https://ingegneri.vr.it
X-WR-CALDESC:Eventi per Ordine degli Ingegneri di Verona e Provincia
REFRESH-INTERVAL;VALUE=DURATION:PT1H
X-Robots-Tag:noindex
X-PUBLISHED-TTL:PT1H
BEGIN:VTIMEZONE
TZID:Europe/Rome
BEGIN:DAYLIGHT
TZOFFSETFROM:+0100
TZOFFSETTO:+0200
TZNAME:CEST
DTSTART:20190331T010000
END:DAYLIGHT
BEGIN:STANDARD
TZOFFSETFROM:+0200
TZOFFSETTO:+0100
TZNAME:CET
DTSTART:20191027T010000
END:STANDARD
BEGIN:DAYLIGHT
TZOFFSETFROM:+0100
TZOFFSETTO:+0200
TZNAME:CEST
DTSTART:20200329T010000
END:DAYLIGHT
BEGIN:STANDARD
TZOFFSETFROM:+0200
TZOFFSETTO:+0100
TZNAME:CET
DTSTART:20201025T010000
END:STANDARD
BEGIN:DAYLIGHT
TZOFFSETFROM:+0100
TZOFFSETTO:+0200
TZNAME:CEST
DTSTART:20210328T010000
END:DAYLIGHT
BEGIN:STANDARD
TZOFFSETFROM:+0200
TZOFFSETTO:+0100
TZNAME:CET
DTSTART:20211031T010000
END:STANDARD
END:VTIMEZONE
BEGIN:VEVENT
DTSTART;VALUE=DATE:20201201
DTEND;VALUE=DATE:20201202
DTSTAMP:20260425T232642
CREATED:20200827T211258Z
LAST-MODIFIED:20200827T211258Z
UID:11674-1606780800-1606867199@ingegneri.vr.it
SUMMARY:Master di II Livello in Tunnel Engineering
DESCRIPTION:Master organizzato dal Dipartimento di Ingegneria Civile e Ambientale del Politecnico di Milano\, in collaborazione con il Consorzio Poliedra. \n\nDa molti anni il tunnelling è un settore in continua espansione a scala globale; sono sempre più richiesti professionisti altamente specializzati con competenze tecniche multidisciplinari\, difficilmente acquisibili tramite i tradizionali corsi universitari o la sola esperienza lavorativa.\nIl Master in Tunnel engineering\, sponsorizzato da diverse aziende operanti nel settore\, nasce come corso altamente specializzante finalizzato a fornire competenze multidisciplinari\, mediante la definizione di un quadro completo delle competenze utili a formare professionisti dotati di capacità progettuali\, operative e manageriali. I docenti e professionisti del settore\, operanti in campo nazionale e internazionale\, affronteranno temi di carattere ingegneristico\, tecnologico\, organizzativo\, ambientale\, economico\, legislativo e strategico.\nIl corso ha l’obiettivo non solo di fornire un titolo riconosciuto a livello accademico\, ma di creare un centro di eccellenza in Ingegneria del tunnel\, formato da figure professionali capaci di interpretare e gestire la complessità dei problemi\, di diventare attori attivi e innovativi nella ricerca di soluzioni ingegneristiche e in grado di assumere ruoli di responsabilità nella gestione dei progetti. Al termine del Master gli studenti avranno acquisito competenze richieste presso studi di progettazione\, imprese di costruzione\, produttori di macchinari\, materiali e tecnologie per i tunnels\, compagnie di gestione delle infrastrutture. Il \nMaster\, in lingua inglese\, si svolgerà da marzo 2021 a febbraio 2022. \nI candidati dovranno presentare la domanda di ammissione entro il 1 dicembre 2020; ogni ulteriore informazione sul Master è reperibile sul sito www.mastertunnelling.polimi.it.
URL:https://ingegneri.vr.it/evento/master-di-ii-livello-in-tunnel-engineering/
CATEGORIES:INIZIATIVE ESTERNE,Master
END:VEVENT
END:VCALENDAR