BEGIN:VCALENDAR
VERSION:2.0
PRODID:-//Ordine degli Ingegneri di Verona e Provincia - ECPv6.15.20//NONSGML v1.0//EN
CALSCALE:GREGORIAN
METHOD:PUBLISH
X-WR-CALNAME:Ordine degli Ingegneri di Verona e Provincia
X-ORIGINAL-URL:https://ingegneri.vr.it
X-WR-CALDESC:Eventi per Ordine degli Ingegneri di Verona e Provincia
REFRESH-INTERVAL;VALUE=DURATION:PT1H
X-Robots-Tag:noindex
X-PUBLISHED-TTL:PT1H
BEGIN:VTIMEZONE
TZID:Europe/Rome
BEGIN:DAYLIGHT
TZOFFSETFROM:+0100
TZOFFSETTO:+0200
TZNAME:CEST
DTSTART:20200329T010000
END:DAYLIGHT
BEGIN:STANDARD
TZOFFSETFROM:+0200
TZOFFSETTO:+0100
TZNAME:CET
DTSTART:20201025T010000
END:STANDARD
BEGIN:DAYLIGHT
TZOFFSETFROM:+0100
TZOFFSETTO:+0200
TZNAME:CEST
DTSTART:20210328T010000
END:DAYLIGHT
BEGIN:STANDARD
TZOFFSETFROM:+0200
TZOFFSETTO:+0100
TZNAME:CET
DTSTART:20211031T010000
END:STANDARD
BEGIN:DAYLIGHT
TZOFFSETFROM:+0100
TZOFFSETTO:+0200
TZNAME:CEST
DTSTART:20220327T010000
END:DAYLIGHT
BEGIN:STANDARD
TZOFFSETFROM:+0200
TZOFFSETTO:+0100
TZNAME:CET
DTSTART:20221030T010000
END:STANDARD
END:VTIMEZONE
BEGIN:VEVENT
DTSTART;VALUE=DATE:20211202
DTEND;VALUE=DATE:20211203
DTSTAMP:20260425T050654
CREATED:20210726T173604Z
LAST-MODIFIED:20211011T162949Z
UID:15463-1638403200-1638489599@ingegneri.vr.it
SUMMARY:XIX edizione Master di II livello ABITA - Università di Firenze - proroga termini
DESCRIPTION:Sono aperte le iscrizioni alla XIX° edizione del Master di II° livello ABITA in Architettura Bioecologica e Innovazione Tecnologica per l’Ambiente dell’Università di Firenze.\nIl Master ABITA offre un percorso di alta formazione nel campo dell’efficienza energetica e della sostenibilità ambientale nel settore delle costruzioni in accordo con le più recenti disposizioni normative internazionali e nazionali in tema di risparmio energetico. \nLa data ultima per le iscrizioni è stata prorogata al 2 Dicembre 2021. Le domande di partecipazione al Master devono essere inoltrate mediante procedura online. \nIl bando di iscrizione è pubblicato a questo link https://www.unifi.it/p12056.html#abita \nLe lezioni avranno inizio il 13 Gennaio 2022 e si svolgeranno in modalità mista prevalentemente nei giorni di giovedì e venerdì con orario 9\,30-13\,30 / 14\,30-16\,30. \nIn allegato il nuovo calendario delle lezioni \nLa quota di iscrizione è di € 4.500. \nDi seguito alcuni link utili: https://www.centroabita.unifi.it/; Per aggiornamenti su opportunità di finanziamento\, Borse di studio e voucher per la frequentazione di Master\nhttps://www.centroabita.unifi.it/vp-171-borse-di-studio.html; Pagina Facebook https://www.facebook.com/masterabita
URL:https://ingegneri.vr.it/evento/xix-edizione-master-di-ii-livello-abita-universita-di-firenze/
CATEGORIES:Master
ATTACH;FMTTYPE=image/png:https://ingegneri.vr.it/wp-content/uploads/2021/03/Logo_universita_firenze.png
END:VEVENT
BEGIN:VEVENT
DTSTART;VALUE=DATE:20211231
DTEND;VALUE=DATE:20220101
DTSTAMP:20260425T050654
CREATED:20211104T174022Z
LAST-MODIFIED:20211104T174135Z
UID:16396-1640908800-1640995199@ingegneri.vr.it
SUMMARY:Master di II livello in conservatore dei documenti digitali a.a. 2021-2022
DESCRIPTION:Sono aperte le iscrizioni al Master di II livello in Conservatore dei documenti digitali (PERSEO) a.a. 2021-2022\, organizzato dall’Università della Calabria. \nLe lezioni saranno erogate in diretta streaming. \nIl corso di master\, attivo dal 2014\, vanta la collaborazione di istituzioni ed aziende impegnate nel contesto della conservazione dei documenti digitali. La sinergia con il tessuto produttivo e con le Pubbliche Amministrazioni\, nelle attività didattiche e di stage\, rappresenta\, per gli allievi del Master\, un importante fattore di crescita professionale e di possibilità di occupazione.\nAl seguente link il bando e la scheda del Master\nPer ulteriori informazioni:\nhttp://www.labdoc.it/formazione/progetti-e-corsi/perseo/ \n 
URL:https://ingegneri.vr.it/evento/master-di-ii-livello-in-conservatore-dei-documenti-digitali-a-a-2021-2022/
CATEGORIES:Master
ATTACH;FMTTYPE=image/png:https://ingegneri.vr.it/wp-content/uploads/2021/11/uni-calabria-.png
END:VEVENT
END:VCALENDAR