BEGIN:VCALENDAR
VERSION:2.0
PRODID:-//Ordine degli Ingegneri di Verona e Provincia - ECPv6.15.20//NONSGML v1.0//EN
CALSCALE:GREGORIAN
METHOD:PUBLISH
X-ORIGINAL-URL:https://ingegneri.vr.it
X-WR-CALDESC:Eventi per Ordine degli Ingegneri di Verona e Provincia
REFRESH-INTERVAL;VALUE=DURATION:PT1H
X-Robots-Tag:noindex
X-PUBLISHED-TTL:PT1H
BEGIN:VTIMEZONE
TZID:Europe/Rome
BEGIN:DAYLIGHT
TZOFFSETFROM:+0100
TZOFFSETTO:+0200
TZNAME:CEST
DTSTART:20210328T010000
END:DAYLIGHT
BEGIN:STANDARD
TZOFFSETFROM:+0200
TZOFFSETTO:+0100
TZNAME:CET
DTSTART:20211031T010000
END:STANDARD
BEGIN:DAYLIGHT
TZOFFSETFROM:+0100
TZOFFSETTO:+0200
TZNAME:CEST
DTSTART:20220327T010000
END:DAYLIGHT
BEGIN:STANDARD
TZOFFSETFROM:+0200
TZOFFSETTO:+0100
TZNAME:CET
DTSTART:20221030T010000
END:STANDARD
BEGIN:DAYLIGHT
TZOFFSETFROM:+0100
TZOFFSETTO:+0200
TZNAME:CEST
DTSTART:20230326T010000
END:DAYLIGHT
BEGIN:STANDARD
TZOFFSETFROM:+0200
TZOFFSETTO:+0100
TZNAME:CET
DTSTART:20231029T010000
END:STANDARD
END:VTIMEZONE
BEGIN:VEVENT
DTSTART;VALUE=DATE:20220523
DTEND;VALUE=DATE:20220524
DTSTAMP:20260424T221401
CREATED:20220506T084739Z
LAST-MODIFIED:20220506T084935Z
UID:18417-1653264000-1653350399@ingegneri.vr.it
SUMMARY:Master Universitario di II livello nel campo del progetto e della gestione delle trasformazioni urbane attraverso le nuove tecnologie digitali.
DESCRIPTION:Il Dipartimento di Architettura dell’Università degli Studi di Ferrara ha attivato la seconda edizione di MICmaster (Innovation Management and Communities)\,  sviluppato in collaborazione con RAISE>UP\, start-up innovativa specializzata in interventi di social innovation applicate alle trasformazioni edilizie e Clust-ER Build\, associazione privata di imprese\, centri di ricerca\, enti di formazione che condividono competenze\, idee e risorse per sostenere la competitività del settore dell’edilizia e costruzioni. \nMICmaster è stato selezionato tra le attività di Alta Formazione in ambito tecnologico\, economico e culturale dell’Emilia Romagna ed è inserito nel progetto “PA 110 e lode” del Piano strategico PNRR “Ri-formare la PA. Persone qualificate per qualificare il Paese”. \nUn percorso formativo di eccellenza\, complementare alle competenze dell’innovation manager di ambito economico\, che risponde alla crescente richiesta di tecnici capaci di attivare e gestire processi di innovazione nelle città e territori\, in particolare riguardo alla mobilità sostenibile.\nLe attività didattiche\, fruibili sia in presenza che online\, tratteranno i principali strumenti di innovazione per i processi di rigenerazione della città e delle reti ambientali approfondendo le soluzioni tecnologiche disponibili e i loro impatti in termini di sostenibilità ambientale\, social innovation e reti urbane. \nLe iscrizioni sono aperte fino al 23 maggio 2022 con istruzioni alla pagina dedicata (max 30 posti disponibili): \nhttps://www2.unife.it/studenti/pfm/allegati/master/2021_2022/bando-micmaster/ \nPer i primi dieci iscritti è previsto un contributo di iscrizione ridotto: in questo caso l’intera quota di iscrizione corrisponde a € 2.860\,00.\nPER INFORMAZIONI\nWEB http://www.unife.it/masters/micmaster\nBANDO https://www2.unife.it/studenti/pfm/mast/21-22/pagine-corsi/MICMaster\nMAIL micmaster@unife.it \nIn allegato la locandina con il dettaglio delle informazioni
URL:https://ingegneri.vr.it/evento/master-universitario-di-ii-livello-nel-campo-del-progetto-e-della-gestione-delle-trasformazioni-urbane-attraverso-le-nuove-tecnologie-digitali/
CATEGORIES:INIZIATIVE ESTERNE,Master
ATTACH;FMTTYPE=image/png:https://ingegneri.vr.it/wp-content/uploads/2022/05/micmaster.png
END:VEVENT
END:VCALENDAR