BEGIN:VCALENDAR
VERSION:2.0
PRODID:-//Ordine degli Ingegneri di Verona e Provincia - ECPv6.15.20//NONSGML v1.0//EN
CALSCALE:GREGORIAN
METHOD:PUBLISH
X-WR-CALNAME:Ordine degli Ingegneri di Verona e Provincia
X-ORIGINAL-URL:https://ingegneri.vr.it
X-WR-CALDESC:Eventi per Ordine degli Ingegneri di Verona e Provincia
REFRESH-INTERVAL;VALUE=DURATION:PT1H
X-Robots-Tag:noindex
X-PUBLISHED-TTL:PT1H
BEGIN:VTIMEZONE
TZID:Europe/Rome
BEGIN:DAYLIGHT
TZOFFSETFROM:+0100
TZOFFSETTO:+0200
TZNAME:CEST
DTSTART:20210328T010000
END:DAYLIGHT
BEGIN:STANDARD
TZOFFSETFROM:+0200
TZOFFSETTO:+0100
TZNAME:CET
DTSTART:20211031T010000
END:STANDARD
BEGIN:DAYLIGHT
TZOFFSETFROM:+0100
TZOFFSETTO:+0200
TZNAME:CEST
DTSTART:20220327T010000
END:DAYLIGHT
BEGIN:STANDARD
TZOFFSETFROM:+0200
TZOFFSETTO:+0100
TZNAME:CET
DTSTART:20221030T010000
END:STANDARD
BEGIN:DAYLIGHT
TZOFFSETFROM:+0100
TZOFFSETTO:+0200
TZNAME:CEST
DTSTART:20230326T010000
END:DAYLIGHT
BEGIN:STANDARD
TZOFFSETFROM:+0200
TZOFFSETTO:+0100
TZNAME:CET
DTSTART:20231029T010000
END:STANDARD
BEGIN:DAYLIGHT
TZOFFSETFROM:+0100
TZOFFSETTO:+0200
TZNAME:CEST
DTSTART:20240331T010000
END:DAYLIGHT
BEGIN:STANDARD
TZOFFSETFROM:+0200
TZOFFSETTO:+0100
TZNAME:CET
DTSTART:20241027T010000
END:STANDARD
END:VTIMEZONE
BEGIN:VEVENT
DTSTART;TZID=Europe/Rome:20220908T080000
DTEND;TZID=Europe/Rome:20230930T170000
DTSTAMP:20260423T114005
CREATED:20220712T082007Z
LAST-MODIFIED:20220712T082007Z
UID:19396-1662624000-1696093200@ingegneri.vr.it
SUMMARY:Master on line di II livello in Cybersecurity and critical infrastructure protection - scadenza iscrizioni 8 settembre 2022
DESCRIPTION:Il Master\, promosso dal Dipartimento di Ingegneria Navale\, Elettrica\, Elettronica e delle Telecomunicazioni – DITEN dell’Università degli Studi di Genova\, nasce da una consolidata collaborazione con le principali aziende del settore che intervengono anche nella didattica per completare le docenze universitarie e offrono uno stage al termine della fase d’aula. Questa forte interazione ha sempre permesso di avere un placement altissimo\, fino al 100% di studenti assunti prima del termine del Master. \nTutte le informazioni su: www.perform.unige.it/master/master-cyber-security
URL:https://ingegneri.vr.it/evento/master-on-line-di-ii-livello-in-cybersecurity-and-critical-infrastructure-protection-scadenza-iscrizioni-8-settembre-2022/
LOCATION:evento online
CATEGORIES:INIZIATIVE ESTERNE,Master
ATTACH;FMTTYPE=image/jpeg:https://ingegneri.vr.it/wp-content/uploads/2019/10/cybersecurity.jpg
END:VEVENT
END:VCALENDAR