BEGIN:VCALENDAR
VERSION:2.0
PRODID:-//Ordine degli Ingegneri di Verona e Provincia - ECPv6.15.20//NONSGML v1.0//EN
CALSCALE:GREGORIAN
METHOD:PUBLISH
X-ORIGINAL-URL:https://ingegneri.vr.it
X-WR-CALDESC:Eventi per Ordine degli Ingegneri di Verona e Provincia
REFRESH-INTERVAL;VALUE=DURATION:PT1H
X-Robots-Tag:noindex
X-PUBLISHED-TTL:PT1H
BEGIN:VTIMEZONE
TZID:Europe/Rome
BEGIN:DAYLIGHT
TZOFFSETFROM:+0100
TZOFFSETTO:+0200
TZNAME:CEST
DTSTART:20230326T010000
END:DAYLIGHT
BEGIN:STANDARD
TZOFFSETFROM:+0200
TZOFFSETTO:+0100
TZNAME:CET
DTSTART:20231029T010000
END:STANDARD
BEGIN:DAYLIGHT
TZOFFSETFROM:+0100
TZOFFSETTO:+0200
TZNAME:CEST
DTSTART:20240331T010000
END:DAYLIGHT
BEGIN:STANDARD
TZOFFSETFROM:+0200
TZOFFSETTO:+0100
TZNAME:CET
DTSTART:20241027T010000
END:STANDARD
BEGIN:DAYLIGHT
TZOFFSETFROM:+0100
TZOFFSETTO:+0200
TZNAME:CEST
DTSTART:20250330T010000
END:DAYLIGHT
BEGIN:STANDARD
TZOFFSETFROM:+0200
TZOFFSETTO:+0100
TZNAME:CET
DTSTART:20251026T010000
END:STANDARD
END:VTIMEZONE
BEGIN:VEVENT
DTSTART;VALUE=DATE:20240131
DTEND;VALUE=DATE:20240201
DTSTAMP:20260423T041041
CREATED:20240126T101235Z
LAST-MODIFIED:20240126T102731Z
UID:25952-1706659200-1706745599@ingegneri.vr.it
SUMMARY:Università' La Sapienza di Roma - Master in Lavori Pubblici - scadenza pre-iscrizioni il 31.01.2024
DESCRIPTION:Il Dipartimento di Ingegneria Civile\, Edile e Ambientale della Sapienza ha avviato quest’anno un Master in “Lavori Pubblici” per fornire ai funzionari e ai professionisti coinvolti nelle procedure degli appalti la formazione richiesta dal codice degli appalti nella sua recentissima riformulazione.\nGli allievi potranno usufruire di contributi estremamente qualificati e competenti per orientarsi nei complessi e variegati aspetti procedurali e operativi. Oltre a professori universitari dell’Ingegneria Civile\, il corpo docente sarà formato\, infatti\, da esperti di alto livello che prestano o hanno prestato la loro opera in posizioni di vertice delle strutture pubbliche più direttamente interessate\, da giuristi di fama\, da avvocati molto esperti della materia\, da RUP di grandi appalti. etc..\nIl master è fruibile con sicuro profitto sia dai dipendenti pubblici\, ingegneri e non\, sia dai dipendenti di Enti\, Società e Imprese che partecipino in vario modo alla progettazione e realizzazione di opere e alla gestione di servizi.\nI dipendenti delle Pubbliche Amministrazioni potranno beneficiare delle condizioni di particolare favore previste dal progetto della Funzione Pubblica denominato “PA 110 e lode”\, che garantisce il rimborso al discente di metà della quota versata per la partecipazione al master.\nI professionisti e i dipendenti di società\, enti e imprese del settore privato potranno iscriversi senza inviare la presentazione dell’amministrazione di appartenenza prevista per i dipendenti pubblici. \nLa scadenza per le pre-iscrizioni è il 31 gennaio 2024. \nIn allegato il materiale informativo sintetico. \nIl piano formativo e le informazioni di dettaglio sono reperibili al link: https://www.uniroma1.it/it/offerta-formativa/master/2024/lavori-pubblici\nPer qualsiasi informazione ulteriore\, si può far riferimento all’indirizzo di posta ufficiale: master-lavoripubblici.dicea@uniroma1.it.
URL:https://ingegneri.vr.it/evento/universita-la-sapienza-di-roma-master-in-lavori-pubblici/
CATEGORIES:INIZIATIVE ESTERNE,Master
ATTACH;FMTTYPE=image/jpeg:https://ingegneri.vr.it/wp-content/uploads/2019/09/master.jpg
END:VEVENT
END:VCALENDAR