BEGIN:VCALENDAR
VERSION:2.0
PRODID:-//Ordine degli Ingegneri di Verona e Provincia - ECPv6.15.20//NONSGML v1.0//EN
CALSCALE:GREGORIAN
METHOD:PUBLISH
X-WR-CALNAME:Ordine degli Ingegneri di Verona e Provincia
X-ORIGINAL-URL:https://ingegneri.vr.it
X-WR-CALDESC:Eventi per Ordine degli Ingegneri di Verona e Provincia
REFRESH-INTERVAL;VALUE=DURATION:PT1H
X-Robots-Tag:noindex
X-PUBLISHED-TTL:PT1H
BEGIN:VTIMEZONE
TZID:Europe/Rome
BEGIN:DAYLIGHT
TZOFFSETFROM:+0100
TZOFFSETTO:+0200
TZNAME:CEST
DTSTART:20240331T010000
END:DAYLIGHT
BEGIN:STANDARD
TZOFFSETFROM:+0200
TZOFFSETTO:+0100
TZNAME:CET
DTSTART:20241027T010000
END:STANDARD
BEGIN:DAYLIGHT
TZOFFSETFROM:+0100
TZOFFSETTO:+0200
TZNAME:CEST
DTSTART:20250330T010000
END:DAYLIGHT
BEGIN:STANDARD
TZOFFSETFROM:+0200
TZOFFSETTO:+0100
TZNAME:CET
DTSTART:20251026T010000
END:STANDARD
BEGIN:DAYLIGHT
TZOFFSETFROM:+0100
TZOFFSETTO:+0200
TZNAME:CEST
DTSTART:20260329T010000
END:DAYLIGHT
BEGIN:STANDARD
TZOFFSETFROM:+0200
TZOFFSETTO:+0100
TZNAME:CET
DTSTART:20261025T010000
END:STANDARD
BEGIN:DAYLIGHT
TZOFFSETFROM:+0100
TZOFFSETTO:+0200
TZNAME:CEST
DTSTART:20270328T010000
END:DAYLIGHT
BEGIN:STANDARD
TZOFFSETFROM:+0200
TZOFFSETTO:+0100
TZNAME:CET
DTSTART:20271031T010000
END:STANDARD
END:VTIMEZONE
BEGIN:VEVENT
DTSTART;TZID=Europe/Rome:20251121T000000
DTEND;TZID=Europe/Rome:20260930T000000
DTSTAMP:20260421T171307
CREATED:20250827T080134Z
LAST-MODIFIED:20250827T080134Z
UID:32589-1763683200-1790726400@ingegneri.vr.it
SUMMARY:MASTER IN GESTIONE AMBIENTALE STRATEGICA organizzato dal DICEA - Università di Padova - dal 21/11/2025 al 30/09/2026: riconosce n° 30 CFP
DESCRIPTION:Informiamo che sono ufficialmente aperte le pre-iscrizioni al Master in Gestione Ambientale Strategica (GAS)\, organizzato dal DICEA – Università degli Studi di Padova\, e di cui FOIV è patrocinante.\nUn percorso di alta formazione per acquisire competenze nel campo della gestione ambientale e della sostenibilità: \n✅ Formula weekend (in modalità duale: in presenza o online)\n✅ Fino a 5 titoli professionali\n✅ Approccio pratico + solida base teorica\n✅ Stage professionalizzante o project Work\n📅 Domanda di ammissione entro il 7 ottobre 2025\n📆 Inizio Master: 21 novembre 2025\n📆 Fine Master: 30 settembre 2026 \nIl Master rilascia 30 CFP (crediti formativi professionali) per ingegneri\, in collaborazione con l’Ordine degli Ingegneri di Padova. \n🌐Scopri di più: https://lnkd.in/dXKVbstx \nSi allega la locandina.
URL:https://ingegneri.vr.it/evento/master-in-gestione-ambientale-strategica-organizzato-dal-dicea-universita-di-padova-dal-21-11-2025-al-30-09-2026-riconosce-n-30-cfp/
LOCATION:in presenza o online
CATEGORIES:INIZIATIVE ESTERNE,Master
ATTACH;FMTTYPE=image/png:https://ingegneri.vr.it/wp-content/uploads/2025/08/download-2.png
END:VEVENT
BEGIN:VEVENT
DTSTART;TZID=Europe/Rome:20251127T090000
DTEND;TZID=Europe/Rome:20261029T180000
DTSTAMP:20260421T171307
CREATED:20251124T105510Z
LAST-MODIFIED:20251124T105510Z
UID:34233-1764234000-1793296800@ingegneri.vr.it
SUMMARY:UNIVERSITÀ DI PISA MASTER BUILDING INFORMATION MODELING - BIM E CDE MANAGER\, BIM COORDINATOR\, BIM SPECIALIST - X^ Edizione 2025-2026
DESCRIPTION:Si informa che l’Università di Pisa ha deciso la RIAPERTURA delle ISCRIZIONI AL MASTER BIM dal 14 al 30 NOVEMBRE 2025 \nIstruzioni al link oppure per informazioni su contenuti\, modalità\, programma\, iscrizioni\, contatti è possibile consultare il sito web www.unibim.it.  \nChi desidera\, senza impegno a iscriversi\, sarà inserito come ospite nella piattaforma Teams del Master per seguire la giornata del 27 novembre (prima del termine iscrizioni del 30)\, mandando una mail a: paolo.fiamma@unipi.it. \nLe attività di tirocinio possono essere effettuate anche presso il proprio luogo di lavoro per introdurre o consolidare l’utilizzo del BIM. \nModalità: VIA WEB in SINCRONO per tutta la durata del Master \nSvolgimento:  8 tuti i giovedì (9.00 – 13.00 e 14.00 -18.00) dal 27/11/2025 al 29/10/2026 (escluso da Natale a Epifania e il mese di agosto) \nDurata: 480 (360 ore docenze e esercitazioni\, 120 ore tirocinio) frequenza min. 70% \n 
URL:https://ingegneri.vr.it/evento/universita-di-pisa-master-building-information-modeling-bim-e-cde-manager-bim-coordinator-bim-specialist-x-edizione-2025-2026/
CATEGORIES:Master
ATTACH;FMTTYPE=image/png:https://ingegneri.vr.it/wp-content/uploads/2020/07/UniPisa.png
END:VEVENT
END:VCALENDAR