BEGIN:VCALENDAR
VERSION:2.0
PRODID:-//Ordine degli Ingegneri di Verona e Provincia - ECPv6.15.20//NONSGML v1.0//EN
CALSCALE:GREGORIAN
METHOD:PUBLISH
X-ORIGINAL-URL:https://ingegneri.vr.it
X-WR-CALDESC:Eventi per Ordine degli Ingegneri di Verona e Provincia
REFRESH-INTERVAL;VALUE=DURATION:PT1H
X-Robots-Tag:noindex
X-PUBLISHED-TTL:PT1H
BEGIN:VTIMEZONE
TZID:Europe/Rome
BEGIN:DAYLIGHT
TZOFFSETFROM:+0100
TZOFFSETTO:+0200
TZNAME:CEST
DTSTART:20250330T010000
END:DAYLIGHT
BEGIN:STANDARD
TZOFFSETFROM:+0200
TZOFFSETTO:+0100
TZNAME:CET
DTSTART:20251026T010000
END:STANDARD
BEGIN:DAYLIGHT
TZOFFSETFROM:+0100
TZOFFSETTO:+0200
TZNAME:CEST
DTSTART:20260329T010000
END:DAYLIGHT
BEGIN:STANDARD
TZOFFSETFROM:+0200
TZOFFSETTO:+0100
TZNAME:CET
DTSTART:20261025T010000
END:STANDARD
BEGIN:DAYLIGHT
TZOFFSETFROM:+0100
TZOFFSETTO:+0200
TZNAME:CEST
DTSTART:20270328T010000
END:DAYLIGHT
BEGIN:STANDARD
TZOFFSETFROM:+0200
TZOFFSETTO:+0100
TZNAME:CET
DTSTART:20271031T010000
END:STANDARD
END:VTIMEZONE
BEGIN:VEVENT
DTSTART;TZID=Europe/Rome:20260512T100000
DTEND;TZID=Europe/Rome:20260512T170000
DTSTAMP:20260419T143158
CREATED:20260413T151436Z
LAST-MODIFIED:20260413T151436Z
UID:36003-1778580000-1778605200@ingegneri.vr.it
SUMMARY:Giornata Tecnica CTA | ACCIAIO PATINABILE ED INFRASTRUTTURE. Principi\, Esperienze\, Diagnostica\, Manutenzione | Pozzolengo (BS)\, 12 maggio 2026: riconosce n° 6 CFP
DESCRIPTION:Segnaliamo la giornata tecnica in oggetto\, organizzata dal Collegio dei Tecnici dell’Acciaio\, che si terrà in presenza\, presso il Golf Hotel San Vigilio di Pozzolengo (BS)\, martedì 12 maggio 2026\, dalle ore 10:00 alle ore 17:00. \nQuote di iscrizione (IVA esclusa):\n€ 120\,00 – tariffa ordinaria; € 90\,00 – Socio CTA \nIn allegato i programma della giornata. Per l’iscrizione cliccare qui.
URL:https://ingegneri.vr.it/evento/giornata-tecnica-cta-acciaio-patinabile-ed-infrastrutture-principi-esperienze-diagnostica-manutenzione-pozzolengo-bs-12-maggio-2026-riconosce-n-6-cfp/
LOCATION:Golf Hotel San Vigilio\, Località San Vigilio 1\, 25010 Pozzolengo (BS)
CATEGORIES:INIZIATIVE ESTERNE,Iniziative esterne con CFP
ATTACH;FMTTYPE=image/jpeg:https://ingegneri.vr.it/wp-content/uploads/2026/04/download.jpg
END:VEVENT
END:VCALENDAR