BEGIN:VCALENDAR
VERSION:2.0
PRODID:-//Ordine degli Ingegneri di Verona e Provincia - ECPv6.15.20//NONSGML v1.0//EN
CALSCALE:GREGORIAN
METHOD:PUBLISH
X-WR-CALNAME:Ordine degli Ingegneri di Verona e Provincia
X-ORIGINAL-URL:https://ingegneri.vr.it
X-WR-CALDESC:Eventi per Ordine degli Ingegneri di Verona e Provincia
REFRESH-INTERVAL;VALUE=DURATION:PT1H
X-Robots-Tag:noindex
X-PUBLISHED-TTL:PT1H
BEGIN:VTIMEZONE
TZID:Europe/Rome
BEGIN:DAYLIGHT
TZOFFSETFROM:+0100
TZOFFSETTO:+0200
TZNAME:CEST
DTSTART:20250330T010000
END:DAYLIGHT
BEGIN:STANDARD
TZOFFSETFROM:+0200
TZOFFSETTO:+0100
TZNAME:CET
DTSTART:20251026T010000
END:STANDARD
BEGIN:DAYLIGHT
TZOFFSETFROM:+0100
TZOFFSETTO:+0200
TZNAME:CEST
DTSTART:20260329T010000
END:DAYLIGHT
BEGIN:STANDARD
TZOFFSETFROM:+0200
TZOFFSETTO:+0100
TZNAME:CET
DTSTART:20261025T010000
END:STANDARD
BEGIN:DAYLIGHT
TZOFFSETFROM:+0100
TZOFFSETTO:+0200
TZNAME:CEST
DTSTART:20270328T010000
END:DAYLIGHT
BEGIN:STANDARD
TZOFFSETFROM:+0200
TZOFFSETTO:+0100
TZNAME:CET
DTSTART:20271031T010000
END:STANDARD
END:VTIMEZONE
BEGIN:VEVENT
DTSTART;TZID=Europe/Rome:20260506T133000
DTEND;TZID=Europe/Rome:20260506T163000
DTSTAMP:20260421T221718
CREATED:20260421T145113Z
LAST-MODIFIED:20260421T145113Z
UID:36112-1778074200-1778085000@ingegneri.vr.it
SUMMARY:VISITA TECNICA a Mozzo Prefabbricati Srl | Zevio (VR)\, mercoledì 6 maggio 2026: riconosce n° 3 CFP
DESCRIPTION:La Visita Tecnica\, promossa dalla Commissione Strutture di questo Ordine si terrà mercoledì 6 maggio 2026 dalle ore 13:30 alle ore 16:30 presso Mozzo Prefabbricati Srl\, Via Spartidori 4\, 37059 Zevio (VR). Appuntamento alle ore 13:15\, arrivo previsto con mezzi propri. \nEvento formativo dedicato agli Ingegneri iscritti all’Ordine degli Ingegneri di Verona e Provincia\, fino ad un massimo di 20 partecipanti. Dato il numero ristretto di posti\, si prega di dare tempestiva comunicazione in caso di impossibilità a partecipare\, cancellandosi anche dal portale “Servizi online”.  \nPer il riconoscimento dei crediti formativi (3 CFP\, tipologia Visita Tecnica con accumulo di CFP validi per un massimo di 9 CFP/anno) è necessaria la presenza per il 100% della durata totale del programma formativo\, ai sensi del Regolamento per l’aggiornamento della competenza professionale CNI 15/07/2013-Allegato A e relative Linee di indirizzo (Testo Unico 2026.0). \nPer la visita nelle aree produttive dell’azienda si richiede di portare ed indossare DPI personali (scarpe antinfortunistiche\, caschetto e gilet ad alta visibilità). \n\nPer l’iscrizione gratuita alla Visita Tecnica – codice IN26-030 cliccare su questo link\nPer registrarsi\, accedere dall’area riservata in home page del sito dell’Ordine alla piattaforma “Servizi online” area formazione: cliccare su questo link – maggiori info al link 
URL:https://ingegneri.vr.it/evento/visita-tecnica-a-mozzo-prefabbricati-srl-zevio-vr-mercoledi-6-maggio-2026-riconosce-n-3-cfp/
LOCATION:Mozzo Prefabbricati Srl\, Via Spartidori 4\, 37059 Zevio (VR)
CATEGORIES:EVENTI DELL'ORDINE,Eventi dell'Ordine con CFP
ATTACH;FMTTYPE=image/jpeg:https://ingegneri.vr.it/wp-content/uploads/2026/04/download-8.jpg
END:VEVENT
END:VCALENDAR