BEGIN:VCALENDAR
VERSION:2.0
PRODID:-//Ordine degli Ingegneri di Verona e Provincia - ECPv6.15.20//NONSGML v1.0//EN
CALSCALE:GREGORIAN
METHOD:PUBLISH
X-ORIGINAL-URL:https://ingegneri.vr.it
X-WR-CALDESC:Eventi per Ordine degli Ingegneri di Verona e Provincia
REFRESH-INTERVAL;VALUE=DURATION:PT1H
X-Robots-Tag:noindex
X-PUBLISHED-TTL:PT1H
BEGIN:VTIMEZONE
TZID:Europe/Rome
BEGIN:DAYLIGHT
TZOFFSETFROM:+0100
TZOFFSETTO:+0200
TZNAME:CEST
DTSTART:20200329T010000
END:DAYLIGHT
BEGIN:STANDARD
TZOFFSETFROM:+0200
TZOFFSETTO:+0100
TZNAME:CET
DTSTART:20201025T010000
END:STANDARD
BEGIN:DAYLIGHT
TZOFFSETFROM:+0100
TZOFFSETTO:+0200
TZNAME:CEST
DTSTART:20210328T010000
END:DAYLIGHT
BEGIN:STANDARD
TZOFFSETFROM:+0200
TZOFFSETTO:+0100
TZNAME:CET
DTSTART:20211031T010000
END:STANDARD
BEGIN:DAYLIGHT
TZOFFSETFROM:+0100
TZOFFSETTO:+0200
TZNAME:CEST
DTSTART:20220327T010000
END:DAYLIGHT
BEGIN:STANDARD
TZOFFSETFROM:+0200
TZOFFSETTO:+0100
TZNAME:CET
DTSTART:20221030T010000
END:STANDARD
BEGIN:DAYLIGHT
TZOFFSETFROM:+0100
TZOFFSETTO:+0200
TZNAME:CEST
DTSTART:20230326T010000
END:DAYLIGHT
BEGIN:STANDARD
TZOFFSETFROM:+0200
TZOFFSETTO:+0100
TZNAME:CET
DTSTART:20231029T010000
END:STANDARD
END:VTIMEZONE
BEGIN:VEVENT
DTSTART;TZID=Europe/Rome:20220526T150000
DTEND;TZID=Europe/Rome:20220526T180000
DTSTAMP:20260423T152830
CREATED:20220511T092955Z
LAST-MODIFIED:20220511T092955Z
UID:18497-1653577200-1653588000@ingegneri.vr.it
SUMMARY:SEMINARIO: "Utilizzo del drone in ambito professionale per Ingegneri" - giovedì 26 maggio 2022: riconosce 3 CFP
DESCRIPTION:Il Seminario in oggetto\, organizzato da questo Ordine\, si terrà giovedì 26 maggio 2022 dalle ore 15:00 alle ore 18:00 in presenza\, presso l’Auditorium dell’Ordine degli Ingegneri di Verona e Provincia (in Via Santa Teresa 12; registrazione partecipanti dalle ore 14:45) e in modalità webinar. \nLa partecipazione al Seminario riconosce n° 3 CFP\, è gratuita ed è dedicata agli iscritti all’Ordine degli Ingegneri di Verona e Provincia.  Per il riconoscimento dei crediti formativi è necessaria la presenza per il 100% della durata del programma formativo. \nPer la consultazione del programma (voce Allegati)\, cliccare su questo link. \n\nIscrizioni in presenza – codice IN22-028: cliccare su questo link.\nNel rispetto della normativa anti COVID-19 è fortemente raccomandato l’utilizzo del dispositivo di protezione delle vie respiratorie.\n\n\nIscrizioni al webinar – codice IN22-028FAD: cliccare su questo link.\nGli iscritti al webinar riceveranno\, nelle 24 ore che precedono il webinar\, un messaggio via e-mail con le istruzioni per accedere alla piattaforma GoToWebinar. Per esigenze legate al tracciamento della presenza e al monitoraggio della soglia di attenzione (per il conseguente rilascio di CFP) si raccomanda di utilizzare un unico dispositivo per il collegamento al webinar\, da cui non ci si deve disconnettere\, sia pur temporaneamente\, uscendo dalla schermata. Per le stesse ragioni non può essere utilizzato il cellulare\, dispositivo non adatto alla fruizione dell’evento online.
URL:https://ingegneri.vr.it/evento/seminario-utilizzo-del-drone-in-ambito-professionale-per-ingegneri-giovedi-26-maggio-2022-riconosce-3-cfp/
LOCATION:Sala Auditorium sede dell’Ordine e webinar
CATEGORIES:EVENTI DELL'ORDINE
END:VEVENT
BEGIN:VEVENT
DTSTART;TZID=Europe/Rome:20220315T150000
DTEND;TZID=Europe/Rome:20220315T180000
DTSTAMP:20260423T152830
CREATED:20220222T174610Z
LAST-MODIFIED:20220222T182045Z
UID:17559-1647356400-1647367200@ingegneri.vr.it
SUMMARY:SEMINARIO: "La legge n. 215/2021 di riforma della sicurezza sul lavoro. Le nuove regole sul preposto e la vigilanza. Effetti per le imprese e per gli appalti" - 15 marzo 2022: riconosce 3 CFP e 3 ore di aggiornamento per RSPP\, ASPP e Coordinatori per la sicurezza
DESCRIPTION:Segnaliamo il Seminario in oggetto\, organizzato da questo Ordine\, che si terrà martedì 15 marzo 2022 dalle ore 15:00 alle ore 18:00 sia in presenza presso l’Auditorium dell’Ordine degli Ingegneri di Verona e Provincia (Via Santa Teresa 12) che in modalità webinar. \nLa partecipazione a questo evento è gratuita e dedicata agli Ingegneri iscritti all’Ordine di Verona e Provincia. Agli Ingegneri che parteciperanno al 100% delle ore previste e supereranno il test di verifica dell’apprendimento saranno riconosciuti n. 3 CFP ai sensi del Regolamento per l’aggiornamento della competenza professionale e n. 3 ore (categoria Seminari) ai fini dell’aggiornamento previsto dall’art. 98 e Alleg. XIV del D.Lgs. 81/2008 e dall’art. 32 D.Lgs. 81/2008 e s.m.i. e accordo Stato-Regioni del 7 luglio 2016 per RSPP\, ASPP e Coordinatori per la sicurezza. \nPer la consultazione del programma del Seminario (voce Allegati)\, cliccare su questo link. \nPer l’iscrizione in presenza evento IN22-017 cliccare sul seguente link.\nPer la partecipazione all’evento in presenza\, nel rispetto delle misure ministeriali COVID-19\, sarà necessario esibire il Super GreenPass e indossare dispositivo di protezione delle vie respiratorie di tipo FFP2. \nPer l’iscrizione in modalità webinar evento IN22-017 FAD cliccare sul seguente link.
URL:https://ingegneri.vr.it/evento/seminario-la-legge-n-215-2021-di-riforma-della-sicurezza-sul-lavoro-le-nuove-regole-sul-preposto-e-la-vigilanza-effetti-per-le-imprese-e-per-gli-appalti-15-marzo-2022-riconosce-3-cfp-e-3-or/
LOCATION:Sala Auditorium sede dell’Ordine e webinar
CATEGORIES:EVENTI DELL'ORDINE
END:VEVENT
BEGIN:VEVENT
DTSTART;TZID=Europe/Rome:20220307T143000
DTEND;TZID=Europe/Rome:20220307T183000
DTSTAMP:20260423T152830
CREATED:20220216T152940Z
LAST-MODIFIED:20220216T152940Z
UID:17465-1646663400-1646677800@ingegneri.vr.it
SUMMARY:CORSO DI AGGIORNAMENTO: “Il D.M. 12 aprile 2019 e il D.M. 3 settembre 2021 ("Minicodice")" - Lunedì 7 marzo 2022: riconosce 4 CFP e 4 ore di aggiornamento prevenzione incendi
DESCRIPTION:Il Corso in oggetto\, organizzato da questo Ordine\, si terrà lunedì 7 marzo 2022\, dalle ore 14.30 alle ore 18.30\, sia in presenza presso l’Auditorium dell’Ordine degli Ingegneri di Verona e Provincia (Via Santa Teresa 12) che in modalità webinar. \nIl Corso\, riservato ad un massimo di 100 partecipanti\, è a pagamento ed è rivolto prioritariamente agli Ingegneri iscritti all’Ordine degli Ingegneri di Verona e Provincia. La quota di iscrizione riservata agli Ingegneri iscritti all’Ordine di Verona e Provincia è di € 50\,00 + IVA. \nIl Corso è valevole quale aggiornamento finalizzato al mantenimento dell’iscrizione dei professionisti negli elenchi del Ministero dell’Interno (art. 7 D.M. 5 agosto 2011 e s.m.i.). Per il rilascio dei 4 CFP e delle 4 ore di aggiornamento prevenzione incendi è richiesta la partecipazione almeno al 90% del programma formativo oltre al superamento della verifica dell’apprendimento. \nPer l’iscrizione in presenza evento IN22-012 cliccare sul seguente link.\nPer la partecipazione all’evento in presenza\, nel rispetto delle misure ministeriali COVID-19\, sarà necessario esibire il Super GreenPass e indossare dispositivo di protezione delle vie respiratorie di tipo FFP2. \nPer l’iscrizione in modalità webinar evento IN22-012FAD cliccare sul seguente link. \nPer la consultazione del programma del Corso e delle modalità di pagamento (voce Allegati)\, cliccare su questo link.
URL:https://ingegneri.vr.it/evento/corso-di-aggiornamento-il-d-m-12-aprile-2019-e-il-d-m-3-settembre-2021-minicodice-lunedi-7-marzo-2022-riconosce-4-cfp-e-4-ore-di-aggiornamento-prevenzione-incendi/
LOCATION:Sala Auditorium sede dell’Ordine e webinar
CATEGORIES:EVENTI DELL'ORDINE
END:VEVENT
BEGIN:VEVENT
DTSTART;TZID=Europe/Rome:20211105T140000
DTEND;TZID=Europe/Rome:20211105T180000
DTSTAMP:20260423T152830
CREATED:20211015T180154Z
LAST-MODIFIED:20211016T063147Z
UID:16117-1636120800-1636135200@ingegneri.vr.it
SUMMARY:Seminario: Impianti fotovoltaici con sistemi di accumulo. Caratteristiche principali\, criteri di scelta e installazione - riconosce 4 CFP
DESCRIPTION:Il seminario in oggetto organizzato da questo Ordine in collaborazione con UNAE Veneto si terrà venerdì 5 novembre p.v. dalle ore 14:00 alle ore 18:00\, sia in presenza\, presso la sede di questo Ordine\, sia in modalità webinar. \nLa partecipazione a questo evento è gratuita e riservata ai soli iscritti all’Ordine di Verona (come da circolare CNI n° 537/XIX Sess. 2020) e consente di conseguire 4 CFP a coloro che avranno partecipato al 100% delle ore previste. \nDi seguito i link per l’iscrizione secondo la modalità prescelta: \n\nIN21-089 Impianti fotovoltaici con sistemi di accumulo – in presenza\nIN21-089 FAD Impianti fotovoltaici con sistemi di accumulo – in modalità webinar\n\nPer la partecipazione all’evento in presenza\, nel rispetto delle misure ministeriali\, sarà necessario esibire il Green Pass. \n  \n  \n 
URL:https://ingegneri.vr.it/evento/seminario-impianti-fotovoltaici-con-sistemi-di-accumulo-caratteristiche-principali-criteri-di-scelta-e-installazione-riconosce-4-cfp/
LOCATION:Sala Auditorium sede dell’Ordine e webinar
CATEGORIES:EVENTI DELL'ORDINE
END:VEVENT
END:VCALENDAR