BEGIN:VCALENDAR
VERSION:2.0
PRODID:-//Ordine degli Ingegneri di Verona e Provincia - ECPv6.15.20//NONSGML v1.0//EN
CALSCALE:GREGORIAN
METHOD:PUBLISH
X-ORIGINAL-URL:https://ingegneri.vr.it
X-WR-CALDESC:Eventi per Ordine degli Ingegneri di Verona e Provincia
REFRESH-INTERVAL;VALUE=DURATION:PT1H
X-Robots-Tag:noindex
X-PUBLISHED-TTL:PT1H
BEGIN:VTIMEZONE
TZID:Europe/Rome
BEGIN:DAYLIGHT
TZOFFSETFROM:+0100
TZOFFSETTO:+0200
TZNAME:CEST
DTSTART:20230326T010000
END:DAYLIGHT
BEGIN:STANDARD
TZOFFSETFROM:+0200
TZOFFSETTO:+0100
TZNAME:CET
DTSTART:20231029T010000
END:STANDARD
BEGIN:DAYLIGHT
TZOFFSETFROM:+0100
TZOFFSETTO:+0200
TZNAME:CEST
DTSTART:20240331T010000
END:DAYLIGHT
BEGIN:STANDARD
TZOFFSETFROM:+0200
TZOFFSETTO:+0100
TZNAME:CET
DTSTART:20241027T010000
END:STANDARD
BEGIN:DAYLIGHT
TZOFFSETFROM:+0100
TZOFFSETTO:+0200
TZNAME:CEST
DTSTART:20250330T010000
END:DAYLIGHT
BEGIN:STANDARD
TZOFFSETFROM:+0200
TZOFFSETTO:+0100
TZNAME:CET
DTSTART:20251026T010000
END:STANDARD
END:VTIMEZONE
BEGIN:VEVENT
DTSTART;TZID=Europe/Rome:20240702T163000
DTEND;TZID=Europe/Rome:20240702T184500
DTSTAMP:20260421T121540
CREATED:20240625T150818Z
LAST-MODIFIED:20240625T150818Z
UID:27780-1719937800-1719945900@ingegneri.vr.it
SUMMARY:Innovazioni nell'Involucro Edilizio. Dalla Facciata Ventilata all'Impermeabilizzazione del Tetto - Verona\, 2 luglio 2024: NO CFP
DESCRIPTION:Segnaliamo l’evento in oggetto\, che si terrà presso la Scuola Edile Verona (in Via Giovanni Verardo Zeviani 8 – 37131 Verona)\, martedì 2 luglio 2024\, dalle ore 16:30 alle ore 18:45. \nL’evento\, gratuito\, è organizzato da Alpewa in collaborazione con l”Ordine degli Architetti P.P.C. della Provincia di Verona.\nNon è previsto il riconoscimento di CFP agli Ingegneri. \nIn allegato la locandina dell’evento. Per l’iscrizione inviare la propria adesione a questo link entro il 1° luglio p.v.. \nPer ulteriori informazioni\, scrivere a: Andrea.Favale@alpewa.it
URL:https://ingegneri.vr.it/evento/innovazioni-nellinvolucro-edilizio-dalla-facciata-ventilata-allimpermeabilizzazione-del-tetto-verona-2-luglio-2024-no-cfp/
LOCATION:Scuola Edile Verona – Via Giovanni Verardo Zeviani 8 – 37131 Verona
CATEGORIES:INIZIATIVE ESTERNE
END:VEVENT
END:VCALENDAR