BEGIN:VCALENDAR
VERSION:2.0
PRODID:-//Ordine degli Ingegneri di Verona e Provincia - ECPv6.15.20//NONSGML v1.0//EN
CALSCALE:GREGORIAN
METHOD:PUBLISH
X-ORIGINAL-URL:https://ingegneri.vr.it
X-WR-CALDESC:Eventi per Ordine degli Ingegneri di Verona e Provincia
REFRESH-INTERVAL;VALUE=DURATION:PT1H
X-Robots-Tag:noindex
X-PUBLISHED-TTL:PT1H
BEGIN:VTIMEZONE
TZID:Europe/Rome
BEGIN:DAYLIGHT
TZOFFSETFROM:+0100
TZOFFSETTO:+0200
TZNAME:CEST
DTSTART:20190331T010000
END:DAYLIGHT
BEGIN:STANDARD
TZOFFSETFROM:+0200
TZOFFSETTO:+0100
TZNAME:CET
DTSTART:20191027T010000
END:STANDARD
BEGIN:DAYLIGHT
TZOFFSETFROM:+0100
TZOFFSETTO:+0200
TZNAME:CEST
DTSTART:20200329T010000
END:DAYLIGHT
BEGIN:STANDARD
TZOFFSETFROM:+0200
TZOFFSETTO:+0100
TZNAME:CET
DTSTART:20201025T010000
END:STANDARD
BEGIN:DAYLIGHT
TZOFFSETFROM:+0100
TZOFFSETTO:+0200
TZNAME:CEST
DTSTART:20210328T010000
END:DAYLIGHT
BEGIN:STANDARD
TZOFFSETFROM:+0200
TZOFFSETTO:+0100
TZNAME:CET
DTSTART:20211031T010000
END:STANDARD
END:VTIMEZONE
BEGIN:VEVENT
DTSTART;TZID=Europe/Rome:20200519T153000
DTEND;TZID=Europe/Rome:20200519T183000
DTSTAMP:20260420T004415
CREATED:20200508T160125Z
LAST-MODIFIED:20200511T184356Z
UID:10375-1589902200-1589913000@ingegneri.vr.it
SUMMARY:Webinar on line - Difesa del suolo e dissesto idrogeologico: dalle azioni preventive agli interventi strutturali casi pratici e nuove tecnologie a confronto - riconosce 3 CFP
DESCRIPTION:L’evento in oggetto – Codice: IN20-043FAD\, a partecipazione gratuita\, organizzato da questo Ordine con il contributo incondizionato delle Società: GeoStru\, TeMa\, Geobrugg e Sirive\, si svolgerà in modalità WEBINAR ON LINE martedì 19.05.2020\, dalle ore 15.30 alle ore 18.30 \nPer le iscrizioni al seminario rimandiamo al seguente LINK \nLa partecipazione a questo evento\, riservata ai soli ingegneri iscritti all’Ordine di Verona\, (come da Circolare CNI n. 537/XIX Sess./2020) consente di conseguire 3 CFP della categoria SEMINARI
URL:https://ingegneri.vr.it/evento/webinar-on-line-difesa-del-suolo-e-dissesto-idrogeologico-dalle-azioni-preventive-agli-interventi-strutturali-casi-pratici-e-nuove-tecnologie-a-confronto-riconosce-3-cfp/
LOCATION:webinar
CATEGORIES:EVENTI DELL'ORDINE
END:VEVENT
BEGIN:VEVENT
DTSTART;TZID=Europe/Rome:20200513T153000
DTEND;TZID=Europe/Rome:20200513T183000
DTSTAMP:20260420T004415
CREATED:20200508T164349Z
LAST-MODIFIED:20200511T184516Z
UID:10384-1589383800-1589394600@ingegneri.vr.it
SUMMARY:Webinar on line: Il consolidamento statico e antisismico degli edifici esistenti: soluzioni in calcestruzzo leggero per il recupero dei solai e rinforzi strutturali con i materiali compositi in FRCM e FRP - riconosce 3 CFP
DESCRIPTION:L’evento in oggetto – Codice: IN20-015FAD\, a partecipazione gratuita\, organizzato da questo Ordine con il contributo incondizionato di Leca Laterlite e Ruregold Innovation & Safety for Building\, si svolgerà in modalità WEBINAR ON LINE mercoledì 13.05.2020\, dalle ore 15.30 alle ore 18.30 \nPer le iscrizioni al sminario rimandiamo al seguente LINK \nLa partecipazione a questo evento\, riservata ai soli ingegneri iscritti all’Ordine di Verona\, (come da Circolare CNI n. 537/XIX Sess./2020) consente di conseguire 3 CFP della categoria SEMINARI
URL:https://ingegneri.vr.it/evento/webinar-on-line-il-consolidamento-statico-e-antisismico-degli-edifici-esistenti-soluzioni-in-calcestruzzo-leggero-per-il-recupero-dei-solai-e-rinforzi-strutturali-con-i-materiali-compositi-in-frcm-e/
LOCATION:webinar
CATEGORIES:EVENTI DELL'ORDINE
END:VEVENT
BEGIN:VEVENT
DTSTART;TZID=Europe/Rome:20200507T143000
DTEND;TZID=Europe/Rome:20200507T163000
DTSTAMP:20260420T004415
CREATED:20200429T102815Z
LAST-MODIFIED:20200508T125734Z
UID:10364-1588861800-1588869000@ingegneri.vr.it
SUMMARY:UNI: Una nuova figura professionale: l'Utility Manager. Webinar gratuito
DESCRIPTION:UNI Ente Italiano di Normazione terrà il prossimo 7 maggio  dalle 14.30 alle 16.30 il Webinar in oggetto. \nPer presentare la nuova norma UNI 11782\, che identifica con esattezza il profilo di questa nuova figura professionale e ne elenca le capacità  che consentiranno un riconoscimento immediato da parte dei vari interlocutori\, è stato organizzato questo webinar. Ulteriori informazioni nella locandina allegata. \nL’evento si tiene on-line\, attraverso la piattaforma GoToWebinar (le semplici istruzioni nella pagina di registrazione). La partecipazione è gratuita\, previa iscrizione all’indirizzo: https://bit.ly/UNI11782 \n  \n  \n 
URL:https://ingegneri.vr.it/evento/uni-una-nuova-figura-professionale-lutility-manager-webinar-gratuito/
LOCATION:webinar
CATEGORIES:INIZIATIVE ESTERNE
ATTACH;FMTTYPE=image/jpeg:https://ingegneri.vr.it/wp-content/uploads/2019/07/UNI-1.jpg
END:VEVENT
BEGIN:VEVENT
DTSTART;TZID=Europe/Rome:20200506T160000
DTEND;TZID=Europe/Rome:20200506T180000
DTSTAMP:20260420T004415
CREATED:20200428T105211Z
LAST-MODIFIED:20200511T135519Z
UID:10351-1588780800-1588788000@ingegneri.vr.it
SUMMARY:Webinar "La gestione del rischio COVID-19 negli ambienti di lavoro" - riconosce 2 CFP e 2 ore di aggiornamento sicurezza ex D.Lgs. 81/2008 - CSP/CSE
DESCRIPTION:L’evento in oggetto – Codice: IN20-051FAD\, a partecipazione gratuita\, organizzato da questo Ordine\, si svolgerà in modalità WEBINAR ON LINE mercoledì 06.05.2020\, dalle ore 16.00 alle ore 18.00 \nPer le iscrizioni al convegno rimandiamo al seguente LINK \nLa partecipazione a questo evento\, riservata ai soli ingegneri iscritti all’Ordine di Verona\, (come da Circolare CNI n. 537/XIX Sess./2020) consente di conseguire 2 CFP e  2 ore ai fini dell’aggiornamento ex D.Lgs. 81/08 della categoria CONVEGNI \n  \n 
URL:https://ingegneri.vr.it/evento/webinar-la-gestione-del-rischio-covid-19-negli-ambienti-di-lavoro-riconosce-2-cfp-e-2-ore-di-aggiornamento-sicurezza-ex-d-lgs-81-2008-csp-cse/
LOCATION:webinar
CATEGORIES:EVENTI DELL'ORDINE
END:VEVENT
BEGIN:VEVENT
DTSTART;TZID=Europe/Rome:20200416T153000
DTEND;TZID=Europe/Rome:20200416T183000
DTSTAMP:20260420T004415
CREATED:20200401T083957Z
LAST-MODIFIED:20200401T170057Z
UID:10045-1587051000-1587061800@ingegneri.vr.it
SUMMARY:Webinar: “Celle a combustibile: idrogeno per il futuro della produzione elettrica” – vale 3 CFP
DESCRIPTION:Riproposizione in modalità webinar del seminario inizialmente previsto per il 12 marzo e poi sospeso a causa dell’emergenza Corona Virus \nL’evento in oggetto – Codice: IN20-016FAD\, a partecipazione gratuita\, organizzato da questo Ordine con il contributo incondizionato di Solid Power\, si svolgerà in modalità WEBINAR ON LINE giovedì 16.04.2020\, dalle ore 15.30 alle ore 18.30 \nPer le iscrizioni al convegno rimandiamo al seguente LINK \nLa partecipazione a questo evento consente agli ingegneri di conseguire 3 CFP  (equiparato alla categoria convegni come recentemente precisato dal Consiglio Nazionale Ingegneri con circolare 501/2020).
URL:https://ingegneri.vr.it/evento/seminario-celle-a-combustibile-idrogeno-per-il-futuro-della-produzione-elettrica-vale-4-cfp-2/
LOCATION:webinar
CATEGORIES:EVENTI DELL'ORDINE
END:VEVENT
BEGIN:VEVENT
DTSTART;TZID=Europe/Rome:20200408T160000
DTEND;TZID=Europe/Rome:20200408T163000
DTSTAMP:20260420T004415
CREATED:20200403T150249Z
LAST-MODIFIED:20200403T155229Z
UID:10117-1586361600-1586363400@ingegneri.vr.it
SUMMARY:Webinar online: "Allargare gli orizzonti con gli strumenti giusti” - NON RICONOSCE CFP
DESCRIPTION:In vista del corso “L’internazionalizzazione delle micro\, piccole e medie imprese” (in due sessioni il 20 aprile e 20 maggio) organizzato da UNI Ente Nazionale di Unificazione\, mercoledì 8 aprile 2020\, ore 16.00 – 16.30\, Fabrizio Fenu\, consulente e formatore\, relazionerà\, in webinar on-line\, un incontro sul tema: “Allargare gli orizzonti con gli strumenti giusti” . \nL’incontro\, volto a conoscere il processo di internazionalizzazione in tutte le sue fasi e strumenti\, tratterà le seguenti tematiche: \n• analisi esogena ed endogena\,\n• marketing strategico e operativo\,\n• ricerca di partner o clienti\,\n• attività di export vero e proprio. \nLa partecipazione al webinar è gratuita\, previa iscrizione al seguente LINK \nL’evento si tiene on-line\, attraverso la piattaforma GoToWebinar (semplici istruzioni nella pagina di registrazione).
URL:https://ingegneri.vr.it/evento/webinar-online-allargare-gli-orizzonti-con-gli-strumenti-giusti/
LOCATION:webinar
CATEGORIES:INIZIATIVE ESTERNE
END:VEVENT
BEGIN:VEVENT
DTSTART;VALUE=DATE:20200406
DTEND;VALUE=DATE:20200410
DTSTAMP:20260420T004415
CREATED:20200403T152220Z
LAST-MODIFIED:20200404T080419Z
UID:10129-1586131200-1586476799@ingegneri.vr.it
SUMMARY:Webinar gratuiti di Legislazione Tecnica - NON RICONOSCONO CFP
DESCRIPTION:Segnaliamo un ciclo di webinar gratuiti organizzati da Legislazione Tecnica in programma nella settimana dal 06.04 al 09.04 p.v.. \n“Contratti Pubblici nell’emergenza sanitaria: il punto sulle misure adottate” – lunedì 6 aprile 2020 ore 11.00 \n“Il cantiere dei lavori pubblici nell’emergenza sanitaria” – martedì 7 aprile 2020 ore 11.00 \n“Contratti Pubblici nell’emergenza sanitaria: gestire le gare in corso e l’esecuzione” – mercoledì 8 aprile 2020 ore 11.00 \n“RUP e DEC\, problematiche operative nell’emergenza sanitaria” – giovedì 9 aprile 2020 ore 11.00 \nPer le iscrizioni ai singoli eventi accedere al seguente LINK \n 
URL:https://ingegneri.vr.it/evento/webinar-gratuiti-di-legislazione-tecnica-non-riconoscono-cfp/
LOCATION:webinar
CATEGORIES:INIZIATIVE ESTERNE
END:VEVENT
END:VCALENDAR