BEGIN:VCALENDAR
VERSION:2.0
PRODID:-//Ordine degli Ingegneri di Verona e Provincia - ECPv6.15.20//NONSGML v1.0//EN
CALSCALE:GREGORIAN
METHOD:PUBLISH
X-ORIGINAL-URL:https://ingegneri.vr.it
X-WR-CALDESC:Eventi per Ordine degli Ingegneri di Verona e Provincia
REFRESH-INTERVAL;VALUE=DURATION:PT1H
X-Robots-Tag:noindex
X-PUBLISHED-TTL:PT1H
BEGIN:VTIMEZONE
TZID:Europe/Rome
BEGIN:DAYLIGHT
TZOFFSETFROM:+0100
TZOFFSETTO:+0200
TZNAME:CEST
DTSTART:20210328T010000
END:DAYLIGHT
BEGIN:STANDARD
TZOFFSETFROM:+0200
TZOFFSETTO:+0100
TZNAME:CET
DTSTART:20211031T010000
END:STANDARD
BEGIN:DAYLIGHT
TZOFFSETFROM:+0100
TZOFFSETTO:+0200
TZNAME:CEST
DTSTART:20220327T010000
END:DAYLIGHT
BEGIN:STANDARD
TZOFFSETFROM:+0200
TZOFFSETTO:+0100
TZNAME:CET
DTSTART:20221030T010000
END:STANDARD
BEGIN:DAYLIGHT
TZOFFSETFROM:+0100
TZOFFSETTO:+0200
TZNAME:CEST
DTSTART:20230326T010000
END:DAYLIGHT
BEGIN:STANDARD
TZOFFSETFROM:+0200
TZOFFSETTO:+0100
TZNAME:CET
DTSTART:20231029T010000
END:STANDARD
BEGIN:DAYLIGHT
TZOFFSETFROM:+0100
TZOFFSETTO:+0200
TZNAME:CEST
DTSTART:20240331T010000
END:DAYLIGHT
BEGIN:STANDARD
TZOFFSETFROM:+0200
TZOFFSETTO:+0100
TZNAME:CET
DTSTART:20241027T010000
END:STANDARD
END:VTIMEZONE
BEGIN:VEVENT
DTSTART;TZID=Europe/Rome:20230505T091500
DTEND;TZID=Europe/Rome:20230623T181500
DTSTAMP:20260421T154720
CREATED:20230131T083934Z
LAST-MODIFIED:20230131T145236Z
UID:21782-1683278100-1687544100@ingegneri.vr.it
SUMMARY:Corso di Aggiornamento 2023 "VALUTAZIONE IMMOBILIARE: metodi\, tecniche e strumenti professionali" - in presenza e online: riconosce 16 CFP
DESCRIPTION:Il Consorzio Cise del POLITECNICO DI MILANO promuove il corso di aggiornamento 2023 di VALUTAZIONE IMMOBILIARE: metodi\, tecniche e strumenti professionali. \nIl corso si articola in 7 moduli\, ciascuno dei quali rappresenta un pacchetto formativo tale da poter essere frequentato anche singolarmente: \nMODULO 1 | 5 maggio 2023 | METODI E TECNICHE PER LA VALUTAZIONE DI EDIFICI/PATRIMONI IMMOBILIARI \nMODULO 2 | 12 maggio 2023 | COME MISURARE E INCREMENTARE LA REDDITIVITÀ DEGLI ASSET IMMOBILIARI \nMODULO 3 | 19 maggio 2023 | LA VALUTAZIONE DEL RISCHIO IMMOBILIARE \nMODULO 4 | 26 maggio 2023 | LA VALUTAZIONE DEI AREE E PROGETTI DI SVILUPPO \nMODULO 5 | 9 giugno 2023 | LA VALUTAZIONE DI HOTEL E ATTIVITÀ RICETTIVE \nMODULO 6 | 16 giugno 2023 | LA VALUTAZIONE DELLA GDO E DEGLI SPAZI RETAIL \nMODULO 7 | 23 giugno 2023 | LA COMMERCIABILITÀ DEGLI IMMOBILI \n\n\nQuote di iscrizione\n– Singolo modulo: 400\,00 euro + IVA\n– 2 moduli: 650\,00 euro + IVA\n– 3 moduli: 900\,00 euro + IVA\n– 4 moduli: 1.100\,00 euro + IVA\n– 5 moduli: 1.300\,00 euro + IVA\n– 6 moduli: 1.450\,00 euro + IVA\n– Intero corso: 1.600\,00 euro + IVA \nCrediti formativi professionali\nOrdine Architetti: 16 CFP\nOrdine Ingegneri: 16 CFP \nContatti \n\n\n\nDirettori del corso: Prof. Oliviero Tronconi\, Prof. Andrea Ciaramella | Coordinatore: Arch. Antonio Invernale\, +39 02 2399 3382 / antonio.invernale@polimi.it\nEnte erogatore: Consorzio CISE – Construction Innovation and Sustainable Engeneering\n\nPer maggiori informazioni\, cliccare QUI.
URL:https://ingegneri.vr.it/evento/corso-di-aggiornamento-valutazione-immobiliare-metodi-tecniche-e-strumenti-professionali-in-presenza-e-online-riconosce-16-cfp/
LOCATION:Politecnico di Milano e webinar
CATEGORIES:INIZIATIVE ESTERNE
ATTACH;FMTTYPE=image/jpeg:https://ingegneri.vr.it/wp-content/uploads/2023/01/download-5.jpg
END:VEVENT
BEGIN:VEVENT
DTSTART;TZID=Europe/Rome:20220506T091500
DTEND;TZID=Europe/Rome:20220624T131500
DTSTAMP:20260421T154720
CREATED:20220429T143523Z
LAST-MODIFIED:20220502T133528Z
UID:18123-1651828500-1656076500@ingegneri.vr.it
SUMMARY:Corso di VALUTAZIONE IMMOBILIARE - dal 6 maggio al 24 giugno 2022 - in presenza e in modalità webinar: riconosce 28 CFP
DESCRIPTION:Il Consorzio Cise del POLITECNICO DI MILANO promuove il corso di VALUTAZIONE IMMOBILIARE con nuovi moduli legati alla valutazione di Hotel\, Centri commerciali e Progetti di sviluppo. \nIl corso si articola in 7 moduli\, ciascuno dei quali rappresenta un pacchetto formativo tale da poter essere frequentato anche singolarmente. \nMODULO 1 | 6 maggio 2022 | METODI E TECNICHE PER LA VALUTAZIONE DI EDIFICI/PATRIMONI IMMOBILIARI (1/2) \nMODULO 2 | 13 maggio 2022 | METODI E TECNICHE PER LA VALUTAZIONE DI EDIFICI/PATRIMONI IMMOBILIARI (2/2) \nMODULO 3 | 20 maggio 2022 | COME MISURARE E INCREMENTARE LA REDDITIVITÀ DEGLI ASSET IMMOBILIARI \nMODULO 4 | 27 maggio 2022 | LA VALUTAZIONE DEL RISCHIO IMMOBILIARE \nMODULO 5 | 10 giugno 2022 | LA VALUTAZIONE DI AREE E PROGETTI DI SVILUPPO \nMODULO 6 | 17 giugno 2022 LA VALUTAZIONE DI HOTEL E ATTIVITÀ RICETTIVE – LA VALUTAZIONE DELLA GDO E DEGLI SPAZI RETAIL \nMODULO 7 | 24 giugno 2022 | LA COMMERCIABILITÀ DEGLI IMMOBILI \nIl corso è a pagamento. Di seguito le quote di iscrizione:\n– Singolo modulo: 400\,00 euro + IVA\n– 2 moduli: 650\,00 euro + IVA\n– 3 moduli: 900\,00 euro + IVA\n– 4 moduli: 1.100\,00 euro + IVA\n– 5 moduli: 1.300\,00 euro + IVA\n– 6 moduli: 1.450\,00 euro + IVA\n– Intero corso: 1.600\,00 euro + IVA \nSede del Corso: Politecnico di Milano – Dipartimento ABC – Real Estate Center – Via Giuseppe Colombo n. 40\, 20133\nIl corso si svolgerà in presenza ma è anche possibile (in base al numero delle richieste) l’erogazione a distanza con la possibilità di seguire i moduli on-line e di intervenire in diretta web. Il corso viene attivato al raggiungimento di un numero minimo di iscritti. \nProvider: Consorzio CISE del Politecnico di Milano \nPer maggiori informazioni\, cliccare qui.
URL:https://ingegneri.vr.it/evento/corso-di-valutazione-immobiliare-dal-6-maggio-al-24-giugno-2022-in-presenza-e-in-modalita-webinar-riconosce-16-cfp/
LOCATION:Politecnico di Milano e webinar
CATEGORIES:INIZIATIVE ESTERNE
END:VEVENT
END:VCALENDAR