BEGIN:VCALENDAR
VERSION:2.0
PRODID:-//Ordine degli Ingegneri di Verona e Provincia - ECPv6.15.20//NONSGML v1.0//EN
CALSCALE:GREGORIAN
METHOD:PUBLISH
X-WR-CALNAME:Ordine degli Ingegneri di Verona e Provincia
X-ORIGINAL-URL:https://ingegneri.vr.it
X-WR-CALDESC:Eventi per Ordine degli Ingegneri di Verona e Provincia
REFRESH-INTERVAL;VALUE=DURATION:PT1H
X-Robots-Tag:noindex
X-PUBLISHED-TTL:PT1H
BEGIN:VTIMEZONE
TZID:Europe/Rome
BEGIN:DAYLIGHT
TZOFFSETFROM:+0100
TZOFFSETTO:+0200
TZNAME:CEST
DTSTART:20220327T010000
END:DAYLIGHT
BEGIN:STANDARD
TZOFFSETFROM:+0200
TZOFFSETTO:+0100
TZNAME:CET
DTSTART:20221030T010000
END:STANDARD
BEGIN:DAYLIGHT
TZOFFSETFROM:+0100
TZOFFSETTO:+0200
TZNAME:CEST
DTSTART:20230326T010000
END:DAYLIGHT
BEGIN:STANDARD
TZOFFSETFROM:+0200
TZOFFSETTO:+0100
TZNAME:CET
DTSTART:20231029T010000
END:STANDARD
BEGIN:DAYLIGHT
TZOFFSETFROM:+0100
TZOFFSETTO:+0200
TZNAME:CEST
DTSTART:20240331T010000
END:DAYLIGHT
BEGIN:STANDARD
TZOFFSETFROM:+0200
TZOFFSETTO:+0100
TZNAME:CET
DTSTART:20241027T010000
END:STANDARD
END:VTIMEZONE
BEGIN:VEVENT
DTSTART;TZID=Europe/Rome:20230209T150000
DTEND;TZID=Europe/Rome:20230420T190000
DTSTAMP:20260426T005147
CREATED:20230127T143200Z
LAST-MODIFIED:20230131T145042Z
UID:21755-1675954800-1682017200@ingegneri.vr.it
SUMMARY:Corsi di aggiornamento per Coordinatori per la progettazione ed esecuzione lavori: riconoscono ore di aggiornamento e CFP - da febbraio 2023
DESCRIPTION:L’Ordine degli Ingegneri della Provincia di Arezzo organizza il seguente calendario di corsi validi ai fini dell’aggiornamento per coordinatori per la progettazione ed esecuzione dei lavori (Allegato XIV D. Lgs. 81/08) \ngiovedì 09/02 dalle ore 15:00 alle ore 19:00\nSegnaletica Stradale. Analisi del D.M 22.01.2019 Individuazione delle procedure di revisione\, integrazione e apposizione della segnaletica stradale destinata alle attività lavorative che si svolgono in presenza di traffico veicolare \ngiovedì 23/02 dalle ore 15:00 alle ore 19:00\nAmbienti Confinati\, Lavori in quota e procedure di recupero di un operatore durante le emergenze \ngiovedì 09/03 dalle ore 15:00 alle ore 19:00\nLe tecniche Lean Six-Sigma applicate alla gestione della sicurezza e salute nei cantieri \ngiovedì 30/03 dalle ore 15:00 alle ore 19:00\nMetodo LPS: Last Planner System: un metodo per implementare il sistema di gestione della produzione in cantiere \ngiovedì 13/04 dalle ore 15:00 alle ore 19:00\nL’idoneità tecnico professionale delle imprese\, Il lavoratore autonomo in edilizia\, I documenti di cantiere (il P.O.S.\, il P.S.S.\, il P.S.C.\, il F.O.) \ngiovedì 20/04 dalle ore 15:00 alle ore 19:00\nOpere provvisionali: reti anticaduta (UNI EN 1263_1 e UNI EN 1263_2) e i parapetti temporanei (UNI EN 13374) \nPer iscriversi è necessario collegarsi al seguente link \nI corsi si svolgeranno in modalità mista: ON LINE in diretta Streaming e IN PRESENZA presso la Sede dell’Ordine. Al momento dell’iscrizione è necessario selezionare la modalità.\nPotranno essere seguiti singolarmente (tranne il modulo 4 da abbinare al modulo 3) e sono validi ai fini del riconoscimento di 4 ore/modulo di aggiornamento per CSE e CSP.\nAgli ingegneri partecipanti verranno riconosciuti 4 CFP/ modulo per aggiornamento professionale continuo. Ai fini del riconoscimento è previsto un test di verifica al termine di ogni corso. \nModalità di iscrizione e pagamento nella locandina scaricabile di seguito\nLocandina corsi sicurezza
URL:https://ingegneri.vr.it/evento/corsi-di-aggiornamento-per-coordinatori-per-la-progettazione-ed-esecuzione-lavori-riconoscono-ore-di-aggiornamento-e-cfp/
LOCATION:in presenza e online
CATEGORIES:INIZIATIVE ESTERNE
ATTACH;FMTTYPE=image/jpeg:https://ingegneri.vr.it/wp-content/uploads/2023/01/download-3.jpg
END:VEVENT
END:VCALENDAR