BEGIN:VCALENDAR
VERSION:2.0
PRODID:-//Ordine degli Ingegneri di Verona e Provincia - ECPv6.15.20//NONSGML v1.0//EN
CALSCALE:GREGORIAN
METHOD:PUBLISH
X-WR-CALNAME:Ordine degli Ingegneri di Verona e Provincia
X-ORIGINAL-URL:https://ingegneri.vr.it
X-WR-CALDESC:Eventi per Ordine degli Ingegneri di Verona e Provincia
REFRESH-INTERVAL;VALUE=DURATION:PT1H
X-Robots-Tag:noindex
X-PUBLISHED-TTL:PT1H
BEGIN:VTIMEZONE
TZID:Europe/Rome
BEGIN:DAYLIGHT
TZOFFSETFROM:+0100
TZOFFSETTO:+0200
TZNAME:CEST
DTSTART:20220327T010000
END:DAYLIGHT
BEGIN:STANDARD
TZOFFSETFROM:+0200
TZOFFSETTO:+0100
TZNAME:CET
DTSTART:20221030T010000
END:STANDARD
BEGIN:DAYLIGHT
TZOFFSETFROM:+0100
TZOFFSETTO:+0200
TZNAME:CEST
DTSTART:20230326T010000
END:DAYLIGHT
BEGIN:STANDARD
TZOFFSETFROM:+0200
TZOFFSETTO:+0100
TZNAME:CET
DTSTART:20231029T010000
END:STANDARD
BEGIN:DAYLIGHT
TZOFFSETFROM:+0100
TZOFFSETTO:+0200
TZNAME:CEST
DTSTART:20240331T010000
END:DAYLIGHT
BEGIN:STANDARD
TZOFFSETFROM:+0200
TZOFFSETTO:+0100
TZNAME:CET
DTSTART:20241027T010000
END:STANDARD
END:VTIMEZONE
BEGIN:VEVENT
DTSTART;TZID=Europe/Rome:20231019T150000
DTEND;TZID=Europe/Rome:20231019T181500
DTSTAMP:20260421T140321
CREATED:20230915T072319Z
LAST-MODIFIED:20230915T072319Z
UID:24592-1697727600-1697739300@ingegneri.vr.it
SUMMARY:SEMINARIO "Il ruolo dell'Ingegnere nel sistema di Protezione Civile" - Verona\, 19 ottobre 2023: riconosce n° 3 CFP
DESCRIPTION:Il Seminario in oggetto\, promosso dalla Commissione Supporto alla Protezione Civile di questo Ordine\, si terrà giovedì 19 ottobre 2023 dalle ore 15:00 alle ore 18:15 in presenza presso l’Auditorium dell’Ordine degli Ingegneri di Verona e Provincia (in Via Santa Teresa 12\, Verona; registrazione partecipanti dalle ore 14:30). \nPer il rilascio dei 3 CFP (tipologia Seminario) è necessaria la presenza per il 100% della durata del programma formativo. \nPer la consultazione del programma (voce Allegati)\, cliccare su questo link. \n\nIscrizione in presenza – codice IN23-048: cliccare su questo link. 
URL:https://ingegneri.vr.it/evento/seminario-il-ruolo-dellingegnere-nel-sistema-di-protezione-civile-verona-19-ottobre-2023-riconosce-n-3-cfp/
LOCATION:Auditorium Ordine degli Ingegneri di Verona e Provincia\, Via Santa Teresa 12\, 37135 Verona
CATEGORIES:EVENTI DELL'ORDINE
END:VEVENT
END:VCALENDAR